BEGIN:VCALENDAR
PRODID:-//Dokk 5//iCal4j 1.0//EN
VERSION:2.0
CALSCALE:GREGORIAN
BEGIN:VEVENT
DTSTAMP:20260425T223039Z
DTSTART;VALUE=DATE:20210210
SUMMARY:Versenytanácsi tárgyalás lesz gazdasági versenyt korlátozó megáll
 apodás tilalmának feltételezett megsértése ügyében (SMHV Energetika Kft.
  és társai)
LOCATION:null
DESCRIPTION:2021. február 10. (szerda) 10.00 órakor a GVH és az SMHV Ener
 getika Kft. és társai között gazdasági versenyt korlátozó megállapodás t
 ilalmának feltételezett megsértése ügyében versenytanácsi tárgyalás lesz
  a GVH földszinti Konferenciatermében. Ügyiratszám: Vj-54/2017. Tájékozt
 ató a Versenytanács tárgyalásairól
UID:d331f3bc-be3e-4be1-a04c-bc6590a767f1
END:VEVENT
END:VCALENDAR
