BEGIN:VCALENDAR
PRODID:-//Dokk 5//iCal4j 1.0//EN
VERSION:2.0
CALSCALE:GREGORIAN
BEGIN:VEVENT
DTSTAMP:20260425T223035Z
DTSTART;VALUE=DATE:20210126
SUMMARY:Versenytanácsi tárgyalás lesz gazdasági versenyt korlátozó megáll
 apodás tilalmának feltételezett megsértése ügyében (MEDIBIS Külkereskede
 lmi és Vállalkozásszervező Kft. és társai)
LOCATION:null
DESCRIPTION:2021. január 26. (kedd) 10.00 órakor a GVH és a MEDIBIS Külke
 reskedelmi és Vállalkozásszervező Kft. és társai között gazdasági versen
 yt korlátozó megállapodás tilalmának feltételezett megsértése ügyében ve
 rsenytanácsi tárgyalás lesz a GVH földszinti tárgyalótermében. Ügyiratsz
 ám: Vj-80/2016. Tájékoztató a Versenytanács tárgyalásairól
UID:e5f58439-9102-4fd3-b926-1f77468297c5
END:VEVENT
END:VCALENDAR
