BEGIN:VCALENDAR
PRODID:-//Dokk 5//iCal4j 1.0//EN
VERSION:2.0
CALSCALE:GREGORIAN
BEGIN:VEVENT
DTSTAMP:20260425T223036Z
DTSTART;VALUE=DATE:20210115
SUMMARY:Versenytanácsi tárgyalás lesz fogyasztókkal szembeni tisztességte
 len kereskedelmi gyakorlat ügyében (NATURPRODUKT Kft. és társai)
LOCATION:null
DESCRIPTION:2021. január 15. (péntek) 10.00 órakor a GVH és a NATURPRODUK
 T Kft. és társai között fogyasztókkal szembeni tisztességtelen kereskede
 lmi gyakorlat ügyében versenytanácsi tárgyalás lesz a GVH földszinti tár
 gyalótermében. Ügyiratszám: Vj-40/2018. Tájékoztató a Versenytanács tárg
 yalásairól
UID:c48e2c38-fd2b-4260-ad9f-dcfa9b737e27
END:VEVENT
END:VCALENDAR
