BEGIN:VCALENDAR
PRODID:-//Dokk 5//iCal4j 1.0//EN
VERSION:2.0
CALSCALE:GREGORIAN
BEGIN:VEVENT
DTSTAMP:20260425T223043Z
DTSTART;VALUE=DATE:20201215
SUMMARY:Versenytanácsi tárgyalás lesz fogyasztókkal szembeni tisztességte
 len kereskedelmi gyakorlat ügyében (DIGI Távközlési és Szolgáltató Kft.\
 , INVITEL Távközlési Zrt.)
LOCATION:null
DESCRIPTION:2020. december 15. (kedd) 10.00 órakor a GVH és a DIGI Távköz
 lési és Szolgáltató Kft.\, INVITEL Távközlési Zrt. között fogyasztókkal 
 szembeni tisztességtelen kereskedelmi gyakorlat ügyében versenytanácsi t
 árgyalás lesz a GVH földszinti tárgyalótermében. Ügyiratszám: Vj-30/2019
 . Tájékoztató a Versenytanács tárgyalásairól
UID:0e75daf3-0a64-4c11-ae4e-00e3401f63de
END:VEVENT
END:VCALENDAR
