BEGIN:VCALENDAR
PRODID:-//Dokk 5//iCal4j 1.0//EN
VERSION:2.0
CALSCALE:GREGORIAN
BEGIN:VEVENT
DTSTAMP:20260425T223041Z
DTSTART;VALUE=DATE:20201209
SUMMARY:Versenytanácsi tárgyalás lesz fogyasztókkal szembeni tisztességte
 len kereskedelmi gyakorlat ügyében (The Hut.com Limited)
LOCATION:null
DESCRIPTION:2020. december 9. (szerda) 13.00 órakor a GVH és a The Hut.co
 m Limited fogyasztókkal szembeni tisztességtelen kereskedelmi gyakorlat 
 ügyében versenytanácsi tárgyalás lesz a GVH földszinti tárgyalótermében.
  Ügyiratszám: Vj-26/2019. Tájékoztató a Versenytanács tárgyalásairól
UID:c5958117-ef66-4255-a900-6b34201ba266
END:VEVENT
END:VCALENDAR
