BEGIN:VCALENDAR
PRODID:-//Dokk 5//iCal4j 1.0//EN
VERSION:2.0
CALSCALE:GREGORIAN
BEGIN:VEVENT
DTSTAMP:20260425T223038Z
DTSTART;VALUE=DATE:20200924
SUMMARY:Versenytanácsi tárgyalás lesz fogyasztókkal szembeni tisztességte
 len kereskedelmi gyakorlat ügyében (Sun System Kereskedelmi és Szolgálta
 tó Kft.)
LOCATION:null
DESCRIPTION:2020. szeptember 24. (csütörtök) 13.00 órakor a GVH és a Sun 
 System Kereskedelmi és Szolgáltató Kft. között fogyasztókkal szembeni ti
 sztességtelen kereskedelmi gyakorlat ügyében versenytanácsi tárgyalás le
 sz a GVH földszinti tárgyalótermében. Ügyiratszám: Vj-25/2019. Tájékozta
 tó a Versenytanács tárgyalásairól
UID:eaddf7cc-d50c-49c4-b7c3-f8ab55a7c149
END:VEVENT
END:VCALENDAR
