BEGIN:VCALENDAR
PRODID:-//Dokk 5//iCal4j 1.0//EN
VERSION:2.0
CALSCALE:GREGORIAN
BEGIN:VEVENT
DTSTAMP:20260425T223039Z
DTSTART;VALUE=DATE:20201015
SUMMARY:Versenytanácsi tárgyalás lesz gazdasági versenyt korlátozó megáll
 apodás tilalmának feltételezett megsértése tárgyában a VJ/49/2011. számú
  versenyfelügyeleti eljárásban előírt kötelezettségek teljesítésének ell
 enőrzése ügyében (Heineken Hungária Sörgyárak Zrt. és társai)
LOCATION:null
DESCRIPTION:2020. október 15. (csütörtök) 10.00 órakor a GVH és a Heineke
 n Hungária Sörgyárak Zrt. és társai között gazdasági versenyt korlátozó 
 megállapodás tilalmának feltételezett megsértése tárgyában lefolytatott 
 VJ/49/2011. számú versenyfelügyeleti eljárásban előírt kötelezettségek t
 eljesítésének ellenőrzése céljából folytatott utóvizsgálati eljárás ügyé
 ben versenytanácsi tárgyalás lesz a GVH földszinti tárgyalótermében. Ügy
 iratszám: Vj-6/2018. Tájékoztató a Versenytanács tárgyalásairól
UID:4511015c-7415-4f89-939c-b67de7c316c5
END:VEVENT
END:VCALENDAR
