BEGIN:VCALENDAR
PRODID:-//Dokk 5//iCal4j 1.0//EN
VERSION:2.0
CALSCALE:GREGORIAN
BEGIN:VEVENT
DTSTAMP:20260426T014235Z
DTSTART;VALUE=DATE:20200909
SUMMARY:Versenytanácsi tárgyalás lesz gazdasági versenyt korlátozó megáll
 apodás tilalmának feltételezett megsértése ügyében (BILA 2000 Kereskedel
 mi és Szolgáltató Bt. és társai)
LOCATION:null
DESCRIPTION:2020. szeptember 9. (szerda) 9.00 órakor a GVH és a BILA 2000
  Kereskedelmi és Szolgáltató Bt. és társai között gazdasági versenyt kor
 látozó megállapodás tilalmának feltételezett megsértése ügyében versenyt
 anácsi tárgyalás lesz. Tárgyalás helyszíne: EDUTUS Ház - Falk1 Rendezvén
 yközpont Ereky István termében (1055 Budapest\, Falk Miksa utca 1.). Ügy
 iratszám: Vj-31/2017. Tájékoztató a Versenytanács tárgyalásairól
UID:bb41b01a-c230-419d-9bd2-30e013cd2dbc
END:VEVENT
END:VCALENDAR
