BEGIN:VCALENDAR
PRODID:-//Dokk 5//iCal4j 1.0//EN
VERSION:2.0
CALSCALE:GREGORIAN
BEGIN:VEVENT
DTSTAMP:20260425T223037Z
DTSTART;VALUE=DATE:20200908
SUMMARY:Versenytanácsi tárgyalás lesz fogyasztókkal szembeni tisztességte
 len kereskedelmi gyakorlat ügyében (Innovelle Pharma Kft.)
LOCATION:null
DESCRIPTION:2020. szeptember 8. (kedd) 13.00 órakor a GVH és az Innovelle
  Pharma Kft. között fogyasztókkal szembeni tisztességtelen kereskedelmi 
 gyakorlat ügyében versenytanácsi tárgyalás lesz a GVH földszinti tárgyal
 ótermében. Ügyiratszám: Vj-21/2019. Tájékoztató a Versenytanács tárgyalá
 sairól
UID:14ea6f1d-a821-4861-8fa5-459ab2ffcc02
END:VEVENT
END:VCALENDAR
