BEGIN:VCALENDAR
PRODID:-//Dokk 5//iCal4j 1.0//EN
VERSION:2.0
CALSCALE:GREGORIAN
BEGIN:VEVENT
DTSTAMP:20260426T000915Z
DTSTART;VALUE=DATE:20200827
SUMMARY:Tájékoztatás a Versenytanács tárgyalásának rendjéről egészségügyi
  válsághelyzet alatt
LOCATION:null
DESCRIPTION:Tisztelt Ügyfelek! Magyarország Kormánya a járványügyi készül
 tség bevezetéséről szóló 283/2020. (VI. 17.) Korm. rendelettel az egészs
 égügyről szóló 1997. évi CLIV. törvény 228. § (4) bekezdése alapján járv
 ányügyi készültséget\, egészségügyi válsághelyzetet vezetett be 2020. jú
 nius 17-i hatállyal. A Versenytanács az egészségügyi válsághelyzetre tek
 intettel 2020 őszén – a járványügyi készültség feloldásáig\, vagy a vise
 lkedési szabályok esetleges szigorításáig – nyilvános tárgyalásainak meg
 tartására az alábbi protokoll mellett készül. Helyszín A 1\,5 méteres bi
 ztonságos távolság tartására tekintettel a GVH földszinti tárgyalótermén
 ek befogadóképessége 6 fő\, a konferenciateremé 8-10 fő. A másfél métere
 s távolság mind az eljáró versenytanács\, mind az eljárás alá vontak kép
 viselői részéről tartható azon eljárásokban\, ahol az eljárás alá vontak
  száma legfeljebb 2-3. Amennyiben az eljárás alá vontak nagyobb száma mi
 att a fenti kapacitások nem elégségesek\, a Versenytanács a tárgyalásra 
 külső helyszínt vesz igénybe. A Versenytanács a tárgyalás résztvevői szá
 ma tekintetében mind a belső\, mind a külső helyszínek tekintetében az e
 ljárás alá vontak részéről 2 fővel\, a terem kapacitásánál pedig 25%-os 
 maximális befogadóképességgel számol. Biztonsági előírások Az eljáró Ver
 senytanács felhívja az érintettek figyelmét\, hogy a tárgyaláson a szája
 t és az orrot eltakaró eszköz (például orvosi maszk\, sál\, kendő) visel
 ése kötelező\, a távolság tartása érdekében eljárás alá vontanként legfe
 ljebb két fő vehet részt\, csak tünetmentes\, illetve olyan személy vehe
 t részt\, akivel vagy hozzátartozójával szemben hatósági karantént nem r
 endeltek el\, az elmúlt 14 napban nem találkozott igazoltan fertőzött sz
 eméllyel és külföldi utazása esetén az irányadó beutazási korlátozásokat
  betartotta és erről szóban nyilatkozik. A tárgyalás helyszínén a Hivata
 l biztosítja kézfertőtlenítő kihelyezését. Nyomtatható verzió PDF formát
 umban
UID:7b0e9b39-da3f-46a4-9c4a-95b643e4afda
END:VEVENT
END:VCALENDAR
