BEGIN:VCALENDAR
PRODID:-//Dokk 5//iCal4j 1.0//EN
VERSION:2.0
CALSCALE:GREGORIAN
BEGIN:VEVENT
DTSTAMP:20260426T014235Z
DTSTART;VALUE=DATE:20200827
SUMMARY:Versenytanácsi tárgyalás lesz gazdasági versenyt korlátozó megáll
 apodás tilalmának feltételezett megsértése ügyében (Személyzeti Tanácsad
 ók Magyarországi Szövetsége és társai)
LOCATION:null
DESCRIPTION:2020. augusztus 27. (csütörtök) 10.00 órakor a GVH és a Szemé
 lyzeti Tanácsadók Magyarországi Szövetsége és társai között gazdasági ve
 rsenyt korlátozó megállapodás tilalmának feltételezett megsértése ügyébe
 n versenytanácsi tárgyalás lesz.   Tárgyalás helyszíne: Aranytíz Kultúrh
 áz\, 1051 Budapest\, Arany János u. 10.\, Tolnay terem Ügyiratszám: Vj-6
 1/2017. Tájékoztató a Versenytanács tárgyalásairól
UID:d1f7ee8a-9c83-4155-8548-9ebce04071ec
END:VEVENT
END:VCALENDAR
