BEGIN:VCALENDAR
PRODID:-//Dokk 5//iCal4j 1.0//EN
VERSION:2.0
CALSCALE:GREGORIAN
BEGIN:VEVENT
DTSTAMP:20260426T014234Z
DTSTART;VALUE=DATE:20200723
SUMMARY:Versenytanácsi tárgyalás lesz fogyasztókkal szembeni tisztességte
 len kereskedelmi gyakorlat ügyében (Emporia Style Kft.)
LOCATION:null
DESCRIPTION:2020. július 23. (csütörtök) 10.00 órakor a GVH és az Emporia
  Style Kft. között fogyasztókkal szembeni tisztességtelen kereskedelmi g
 yakorlat ügyében versenytanácsi tárgyalás lesz a GVH földszinti tárgyaló
 termében. Ügyiratszám: Vj-33/2018. Tájékoztató a Versenytanács tárgyalás
 airól
UID:000f6374-e743-4e02-b588-bfa5b2cf7d09
END:VEVENT
END:VCALENDAR
