BEGIN:VCALENDAR
PRODID:-//Dokk 5//iCal4j 1.0//EN
VERSION:2.0
CALSCALE:GREGORIAN
BEGIN:VEVENT
DTSTAMP:20260426T014235Z
DTSTART;VALUE=DATE:20200707
SUMMARY:Versenytanácsi tárgyalás lesz fogyasztókkal szembeni tisztességte
 len kereskedelmi gyakorlat ügyében (be2 S.à.r.l. és társai)
LOCATION:null
DESCRIPTION:2020. július 7. (kedd) 14.00 órakor a GVH és a be2 S.à.r.l. é
 s társai között fogyasztókkal szembeni tisztességtelen kereskedelmi gyak
 orlat ügyében versenytanácsi tárgyalás lesz a GVH földszinti tárgyalóter
 mében. Ügyiratszám: Vj-19/2018. Tájékoztató a Versenytanács tárgyalásair
 ól
UID:f6741bc3-d0b7-41a2-8518-25f432d19449
END:VEVENT
END:VCALENDAR
