BEGIN:VCALENDAR
PRODID:-//Dokk 5//iCal4j 1.0//EN
VERSION:2.0
CALSCALE:GREGORIAN
BEGIN:VEVENT
DTSTAMP:20260426T014234Z
DTSTART;VALUE=DATE:20200706
SUMMARY:Versenytanácsi tárgyalás lesz fogyasztókkal szembeni tisztességte
 len kereskedelmi gyakorlat ügyében (TESCO-GLOBAL Áruházak Zrt.) (zárt tá
 rgyalás elrendelése várható)
LOCATION:null
DESCRIPTION:2020. július 6. (hétfő) 14.00 órakor a GVH és a TESCO-GLOBAL 
 Áruházak Zrt. között fogyasztókkal szembeni tisztességtelen kereskedelmi
  gyakorlat ügyében versenytanácsi tárgyalás lesz a GVH földszinti tárgya
 lótermében. Ügyiratszám: Vj-65/2017. (ZÁRT TÁRGYALÁS ELRENDELÉSE VÁRHATÓ
 ) Tájékoztató a Versenytanács tárgyalásairól
UID:4b9d56d0-f74c-408a-92aa-f4608a049d09
END:VEVENT
END:VCALENDAR
