BEGIN:VCALENDAR
PRODID:-//Dokk 5//iCal4j 1.0//EN
VERSION:2.0
CALSCALE:GREGORIAN
BEGIN:VEVENT
DTSTAMP:20260426T014235Z
DTSTART;VALUE=DATE:20200619
SUMMARY:Versenytanácsi tárgyalás lesz jelentős piaci erővel történő felté
 telezett visszaélés ügyében (SPAR Magyarország Kereskedelmi Kft.)
LOCATION:null
DESCRIPTION:2020. június 19. (péntek) 10.00 órakor a GVH és a SPAR Magyar
 ország Kereskedelmi Kft. között jelentős piaci erővel történő feltételez
 ett visszaélés ügyében versenytanácsi tárgyalás lesz a GVH földszinti tá
 rgyalótermében. Ügyiratszám: Vj-43/2016. Tájékoztató a Versenytanács tár
 gyalásairól
UID:4d6e0912-c1c2-4107-9a4b-c715a37e23e5
END:VEVENT
END:VCALENDAR
