BEGIN:VCALENDAR
PRODID:-//Dokk 5//iCal4j 1.0//EN
VERSION:2.0
CALSCALE:GREGORIAN
BEGIN:VEVENT
DTSTAMP:20260426T014235Z
DTSTART;VALUE=DATE:20200514
SUMMARY:Versenytanácsi tárgyalás lesz fogyasztókkal szembeni tisztességte
 len kereskedelmi gyakorlat ügyében (JLM PowerLine Kft.\, BioTech USA Kft
 .)
LOCATION:null
DESCRIPTION:2020. május 14. (csütörtök) 10.00 órakor a GVH és a JLM Power
 Line Kft.\, BioTech USA Kft. között fogyasztókkal szembeni tisztességtel
 en kereskedelmi gyakorlat ügyében versenytanácsi tárgyalás lesz a GVH fö
 ldszinti tárgyalótermében. Ügyiratszám: Vj-23/2017. Tájékoztató a Versen
 ytanács tárgyalásairól
UID:f06a3463-610e-492d-a5eb-a63384524267
END:VEVENT
END:VCALENDAR
