BEGIN:VCALENDAR
PRODID:-//Dokk 5//iCal4j 1.0//EN
VERSION:2.0
CALSCALE:GREGORIAN
BEGIN:VEVENT
DTSTAMP:20260426T014234Z
DTSTART;VALUE=DATE:20200302
SUMMARY:Versenytanácsi tárgyalás nincs kitűzve a 2020. március 2-től 2020
 . március 6-ig terjedő időszakban.
LOCATION:null
DESCRIPTION:Versenytanácsi tárgyalás nincs kitűzve a 2020. március 2-től 
 2020. március 6-ig terjedő időszakban. Tájékoztató a Versenytanács tárgy
 alásairól
UID:2dab2756-bdd1-4b11-aad3-b9046d8f3547
END:VEVENT
END:VCALENDAR
