BEGIN:VCALENDAR
PRODID:-//Dokk 5//iCal4j 1.0//EN
VERSION:2.0
CALSCALE:GREGORIAN
BEGIN:VEVENT
DTSTAMP:20260426T014234Z
DTSTART;VALUE=DATE:20200129
SUMMARY:Versenytanácsi tárgyalás lesz fogyasztókkal szembeni tisztességte
 len kereskedelmi gyakorlat ügyében (Béres Gyógyszergyár Zrt.)
LOCATION:null
DESCRIPTION:2020. január 29. (szerda) 10.00 órakor a GVH és a Béres Gyógy
 szergyár Zrt. között fogyasztókkal szembeni tisztességtelen kereskedelmi
  gyakorlat ügyében versenytanácsi tárgyalás lesz a GVH földszinti tárgya
 lótermében. Ügyiratszám: Vj-6/2019. Tájékoztató a Versenytanács tárgyalá
 sairól
UID:e7b12865-11d5-4aa2-a1c7-ef8533b59184
END:VEVENT
END:VCALENDAR
