BEGIN:VCALENDAR
PRODID:-//Dokk 5//iCal4j 1.0//EN
VERSION:2.0
CALSCALE:GREGORIAN
BEGIN:VEVENT
DTSTAMP:20260426T014234Z
DTSTART;VALUE=DATE:20200120
SUMMARY:Versenytanácsi tárgyalás nincs kitűzve a 2020. január 20-tól 2020
 . január 24-ig terjedő időszakban.
LOCATION:null
DESCRIPTION:Versenytanácsi tárgyalás nincs kitűzve a 2020. január 20-tól 
 2020. január 24-ig terjedő időszakban. Tájékoztató a Versenytanács tárgy
 alásairól
UID:8bb9fc56-bf0a-4d5b-b3d5-e8936206a295
END:VEVENT
END:VCALENDAR
