BEGIN:VCALENDAR
PRODID:-//Dokk 5//iCal4j 1.0//EN
VERSION:2.0
CALSCALE:GREGORIAN
BEGIN:VEVENT
DTSTAMP:20260426T014234Z
DTSTART;VALUE=DATE:20191211
SUMMARY:Versenytanácsi tárgyalás lesz gazdasági versenyt korlátozó megáll
 apodás tilalmának feltételezett megsértése miatt lefolytatott Vj-89/2015
 . számú versenyfelügyeleti eljárásban hozott határozatban előírt kötelez
 ettségvállalás teljesítésének ellenőrzése ügyében (Delivery Hero Hungary
  Kft.)
LOCATION:null
DESCRIPTION:2019. december 11. (szerda) 10.00 órakor a GVH és a Delivery 
 Hero Hungary Kft. között gazdasági versenyt korlátozó megállapodás tilal
 mának feltételezett megsértése miatt lefolytatott Vj-89/2015. számú vers
 enyfelügyeleti eljárásban hozott határozatban előírt kötelezettségvállal
 ás teljesítésének ellenőrzése ügyében versenytanácsi tárgyalás lesz a GV
 H földszinti tárgyalótermében. Ügyiratszám: Vj-45/2018. Tájékoztató a Ve
 rsenytanács tárgyalásairól
UID:e425e84d-3e0d-410b-b2a5-2bd27a848a9b
END:VEVENT
END:VCALENDAR
