BEGIN:VCALENDAR
PRODID:-//Dokk 5//iCal4j 1.0//EN
VERSION:2.0
CALSCALE:GREGORIAN
BEGIN:VEVENT
DTSTAMP:20260426T014235Z
DTSTART;VALUE=DATE:20191202
SUMMARY:Versenytanácsi tárgyalás lesz fogyasztókkal szembeni tisztességte
 len kereskedelmi gyakorlat ügyében (Fox Consulting Kft.)
LOCATION:null
DESCRIPTION:2019. december 2. (hétfő) 9.30 órakor a GVH és a Fox Consulti
 ng Kft. között fogyasztókkal szembeni tisztességtelen kereskedelmi gyako
 rlat ügyében versenytanácsi tárgyalás lesz a GVH földszinti tárgyalóterm
 ében. Ügyiratszám: Vj-4/2019. Tájékoztató a Versenytanács tárgyalásairól
 
UID:8a9c1e51-905e-421c-a848-5b742e331ce1
END:VEVENT
END:VCALENDAR
