BEGIN:VCALENDAR
PRODID:-//Dokk 5//iCal4j 1.0//EN
VERSION:2.0
CALSCALE:GREGORIAN
BEGIN:VEVENT
DTSTAMP:20260426T014234Z
DTSTART;VALUE=DATE:20191128
SUMMARY:Versenytanácsi tárgyalás lesz fogyasztókkal szembeni tisztességte
 len kereskedelmi gyakorlat ügyében (Telenor Magyarország Zrt.)
LOCATION:null
DESCRIPTION:2019. november 28. (csütörtök) 10.00 órakor a GVH és a Teleno
 r Magyarország Zrt. között fogyasztókkal szembeni tisztességtelen keresk
 edelmi gyakorlat ügyében versenytanácsi tárgyalás lesz a GVH földszinti 
 tárgyalótermében. Ügyiratszám: Vj-13/2018. Tájékoztató a Versenytanács t
 árgyalásairól
UID:8e28a99f-58d7-4dcc-87da-3f0327e9fb0f
END:VEVENT
END:VCALENDAR
