BEGIN:VCALENDAR
PRODID:-//Dokk 5//iCal4j 1.0//EN
VERSION:2.0
CALSCALE:GREGORIAN
BEGIN:VEVENT
DTSTAMP:20260425T235001Z
DTSTART;VALUE=DATE:20190415
SUMMARY:Versenytanácsi tárgyalás nincs kitűzve a 2019. április 15-től 201
 9. április 18-ig terjedő időszakban.
LOCATION: ()
DESCRIPTION:Versenytanácsi tárgyalás nincs kitűzve a 2019. április 15-től
  2019. április 18-ig terjedő időszakban. Tájékoztató a Versenytanács tár
 gyalásairól
UID:0e7e1251-36e4-460c-bf82-d19f82f942ed
END:VEVENT
END:VCALENDAR
