BEGIN:VCALENDAR
PRODID:-//Dokk 5//iCal4j 1.0//EN
VERSION:2.0
CALSCALE:GREGORIAN
BEGIN:VEVENT
DTSTAMP:20260425T235000Z
DTSTART;VALUE=DATE:20190306
SUMMARY:Versenytanácsi tárgyalás lesz fogyasztókkal szembeni tisztességte
 len kereskedelmi gyakorlat ügyében (PayPal (Europe) S.á r.l. et Cie\, S.
 C.A.)
LOCATION: ()
DESCRIPTION:2019. március 6. (szerda) 13.30 órakor a GVH és a PayPal (Eur
 ope) S.á r.l. et Cie\, S.C.A. között fogyasztókkal szembeni tisztességte
 len kereskedelmi gyakorlat ügyében versenytanácsi tárgyalás lesz a GVH f
 öldszinti tárgyalótermében. Ügyiratszám: Vj-18/2017. Tájékoztató a Verse
 nytanács tárgyalásairól 
UID:00a84bd8-b698-47ac-b8b4-ce29677960dd
END:VEVENT
END:VCALENDAR
