BEGIN:VCALENDAR
PRODID:-//Dokk 5//iCal4j 1.0//EN
VERSION:2.0
CALSCALE:GREGORIAN
BEGIN:VEVENT
DTSTAMP:20260425T221943Z
DTSTART;VALUE=DATE:20190313
SUMMARY:Versenytanácsi tárgyalás lesz jogellenes összehasonlító reklám üg
 yében (Magyar Telekom Nyrt.)
LOCATION: ()
DESCRIPTION:2019. március 13. (szerda) 14.00 órakor a GVH és a Magyar Tel
 ekom Nyrt. között jogellenes összehasonlító reklám ügyében versenytanács
 i tárgyalás lesz a GVH földszinti tárgyalótermében. Ügyiratszám: Vj-4/20
 18. Tájékoztató a Versenytanács tárgyalásairól 
UID:98cbf866-26d4-4233-90e5-38a02130ca77
END:VEVENT
END:VCALENDAR
