BEGIN:VCALENDAR
PRODID:-//Dokk 5//iCal4j 1.0//EN
VERSION:2.0
CALSCALE:GREGORIAN
BEGIN:VEVENT
DTSTAMP:20260425T235002Z
DTSTART;VALUE=DATE:20190321
SUMMARY:Versenytanácsi tárgyalás lesz gazdasági versenyt korlátozó megáll
 apodás ügyében (Energizer Magyarország Kereskedelmi Kft. és társai)
LOCATION: ()
DESCRIPTION:2019. március 21. (csütörtök) 10.00 órakor a GVH és az Energi
 zer Magyarország Kereskedelmi Kft. és társai között gazdasági versenyt k
 orlátozó megállapodás ügyében versenytanácsi tárgyalás lesz a GVH földsz
 inti tárgyalótermében. Ügyiratszám: Vj-43/2015. Tájékoztató a Versenytan
 ács tárgyalásairól 
UID:e78d604d-a2aa-4dcd-909f-20f5e449da52
END:VEVENT
END:VCALENDAR
