BEGIN:VCALENDAR
PRODID:-//Dokk 5//iCal4j 1.0//EN
VERSION:2.0
CALSCALE:GREGORIAN
BEGIN:VEVENT
DTSTAMP:20260425T221943Z
DTSTART;VALUE=DATE:20190328
SUMMARY:Versenytanácsi tárgyalás lesz gazdasági versenyt korlátozó megáll
 apodás ügyében (Alter Energetikai Iroda Tudományos\, Szolgáltató Bt. és 
 társai)
LOCATION: ()
DESCRIPTION:2019. március 28. (csütörtök) 9.30 órakor a GVH és az Alter E
 nergetikai Iroda Tudományos\, Szolgáltató Bt. és társai között gazdasági
  versenyt korlátozó megállapodás ügyében versenytanácsi tárgyalás lesz a
  GVH földszinti tárgyalótermében. Ügyiratszám: Vj-41/2016. Tájékoztató a
  Versenytanács tárgyalásairól 
UID:44289121-b1ac-4a0b-a9ed-fd3a9888a885
END:VEVENT
END:VCALENDAR
