BEGIN:VCALENDAR
PRODID:-//Dokk 5//iCal4j 1.0//EN
VERSION:2.0
CALSCALE:GREGORIAN
BEGIN:VEVENT
DTSTAMP:20260425T235000Z
DTSTART;VALUE=DATE:20190404
SUMMARY:Versenytanácsi tárgyalás lesz gazdasági versenyt korlátozó megáll
 apodás ügyében (ATC Aircom Kft. és társai)
LOCATION: ()
DESCRIPTION:2019. április 4. (csütörtök) 10.00 órakor a GVH és az ATC Air
 com Kft. és társai között gazdasági versenyt korlátozó megállapodás ügyé
 ben versenytanácsi tárgyalás lesz a GVH földszinti tárgyalótermében. Ügy
 iratszám: Vj-110/2015. Tájékoztató a Versenytanács tárgyalásairól 
UID:dc5666cf-99f6-44bd-a66a-78146971ecb5
END:VEVENT
END:VCALENDAR
