BEGIN:VCALENDAR
PRODID:-//Dokk 5//iCal4j 1.0//EN
VERSION:2.0
CALSCALE:GREGORIAN
BEGIN:VEVENT
DTSTAMP:20260425T235000Z
DTSTART;VALUE=DATE:20190408
SUMMARY:Versenytanácsi tárgyalás lesz fogyasztókkal szembeni tisztességte
 len kereskedelmi gyakorlat ügyében (ingatlan.com Zrt.)
LOCATION: ()
DESCRIPTION:2019. április 8. (hétfő) 13.30 órakor a GVH és az ingatlan.co
 m Zrt. között fogyasztókkal szembeni tisztességtelen kereskedelmi gyakor
 lat ügyében versenytanácsi tárgyalás lesz a GVH földszinti tárgyalótermé
 ben. Ügyiratszám: Vj-3/2018. Tájékoztató a Versenytanács tárgyalásairól 
 
UID:a6e47894-7244-4e09-b8a7-42f7c1310d91
END:VEVENT
END:VCALENDAR
