BEGIN:VCALENDAR
PRODID:-//Dokk 5//iCal4j 1.0//EN
VERSION:2.0
CALSCALE:GREGORIAN
BEGIN:VEVENT
DTSTAMP:20260425T235001Z
DTSTART;VALUE=DATE:20190729
DTEND;VALUE=DATE:20990101
SUMMARY:Versenytanácsi tárgyalás nincs kitűzve a 2019. július 29-től 2019
 . augusztus 2-ig terjedő időszakban.
LOCATION: ()
DESCRIPTION: Versenytanácsi tárgyalás nincs kitűzve a 2019. július 29-től
  2019. augusztus 2-ig terjedő időszakban. Tájékoztató a Versenytanács tá
 rgyalásairól
UID:189f4dad-a83b-4e25-a402-7502b4f2d547
END:VEVENT
END:VCALENDAR
