BEGIN:VCALENDAR
PRODID:-//Dokk 5//iCal4j 1.0//EN
VERSION:2.0
CALSCALE:GREGORIAN
BEGIN:VEVENT
DTSTAMP:20260425T235001Z
DTSTART;VALUE=DATE:20190429
SUMMARY:Versenytanácsi tárgyalás lesz fogyasztókkal szembeni tisztességte
 len kereskedelmi gyakorlat ügyében (Novonex Pharma Kft. és társai)
LOCATION: ()
DESCRIPTION:2019. április 29. (hétfő) 14.00 órakor a GVH és a Novonex Pha
 rma Kft. és társai között fogyasztókkal szembeni tisztességtelen kereske
 delmi gyakorlat ügyében versenytanácsi tárgyalás lesz a GVH földszinti t
 árgyalótermében. Ügyiratszám: Vj-91/2016. Tájékoztató a Versenytanács tá
 rgyalásairól 
UID:49b8ea97-469f-49c5-8a4a-c537d1a607b3
END:VEVENT
END:VCALENDAR
