BEGIN:VCALENDAR
PRODID:-//Dokk 5//iCal4j 1.0//EN
VERSION:2.0
CALSCALE:GREGORIAN
BEGIN:VEVENT
DTSTAMP:20260425T235001Z
DTSTART;VALUE=DATE:20190508
SUMMARY:Versenytanácsi tárgyalás lesz fogyasztókkal szembeni tisztességte
 len kereskedelmi gyakorlat ügyében (Mapsolutions Zrt.)
LOCATION: ()
DESCRIPTION:2019. május 8. (szerda) 10.00 órakor a GVH és a Mapsolutions 
 Zrt. között fogyasztókkal szembeni tisztességtelen kereskedelmi gyakorla
 t ügyében versenytanácsi tárgyalás lesz a GVH földszinti tárgyalótermébe
 n. Ügyiratszám: Vj-36/2018. Tájékoztató a Versenytanács tárgyalásairól 
UID:5f4380fb-be84-47b8-9089-eea4a9dbef36
END:VEVENT
END:VCALENDAR
