BEGIN:VCALENDAR
PRODID:-//Dokk 5//iCal4j 1.0//EN
VERSION:2.0
CALSCALE:GREGORIAN
BEGIN:VEVENT
DTSTAMP:20260420T151922Z
DTSTART;VALUE=DATE:20260423
SUMMARY:Versenytanácsi tárgyalás lesz fogyasztókkal szembeni tisztességte
 len kereskedelmi gyakorlat tilalmának feltételezett megsértése ügyben (A
 llegro sp. z o.o.)
LOCATION:1026 Budapest\, Riadó u. 5-11. ()
DESCRIPTION:2026. április 23-án (csütörtök) 14.00 órakor a GVH és az Alle
 gro sp. z o.o. között fogyasztókkal szembeni tisztességtelen kereskedelm
 i gyakorlat tilalmának feltételezett megsértése ügyében versenytanácsi t
 árgyalás lesz. Ügyiratszám: Vj/4/2025. A tárgyalás helyszíne: 1026 Budap
 est\, Riadó utca 5. földszinti tárgyalóterem Tájékoztató a Versenytanács
  tárgyalásairól
UID:7f8948a5-ae6b-4203-9a9f-8ae750dbd8e8
END:VEVENT
END:VCALENDAR
